BEGIN:VCALENDAR
VERSION:2.0
PRODID:-// - ECPv6.15.20//NONSGML v1.0//EN
CALSCALE:GREGORIAN
METHOD:PUBLISH
X-ORIGINAL-URL:https://www.cachouseofencounter.org
X-WR-CALDESC:Events for 
REFRESH-INTERVAL;VALUE=DURATION:PT1H
X-Robots-Tag:noindex
X-PUBLISHED-TTL:PT1H
BEGIN:VTIMEZONE
TZID:Europe/London
BEGIN:DAYLIGHT
TZOFFSETFROM:+0000
TZOFFSETTO:+0100
TZNAME:BST
DTSTART:20240331T010000
END:DAYLIGHT
BEGIN:STANDARD
TZOFFSETFROM:+0100
TZOFFSETTO:+0000
TZNAME:GMT
DTSTART:20241027T010000
END:STANDARD
BEGIN:DAYLIGHT
TZOFFSETFROM:+0000
TZOFFSETTO:+0100
TZNAME:BST
DTSTART:20250330T010000
END:DAYLIGHT
BEGIN:STANDARD
TZOFFSETFROM:+0100
TZOFFSETTO:+0000
TZNAME:GMT
DTSTART:20251026T010000
END:STANDARD
BEGIN:DAYLIGHT
TZOFFSETFROM:+0000
TZOFFSETTO:+0100
TZNAME:BST
DTSTART:20260329T010000
END:DAYLIGHT
BEGIN:STANDARD
TZOFFSETFROM:+0100
TZOFFSETTO:+0000
TZNAME:GMT
DTSTART:20261025T010000
END:STANDARD
END:VTIMEZONE
BEGIN:VEVENT
DTSTART;VALUE=DATE:20250801
DTEND;VALUE=DATE:20250808
DTSTAMP:20260422T114606
CREATED:20250829T163815Z
LAST-MODIFIED:20250829T163815Z
UID:494-1754006400-1754611199@www.cachouseofencounter.org
SUMMARY:7DAYS FASTING & PRAYER
DESCRIPTION:THEME: GATES OF MY LIMITATION ARE OVER
URL:https://www.cachouseofencounter.org/event/7days-fasting-prayer/
LOCATION:Church Auditorium\, OldScott Community Centre\, 271 Birdbrook Road\, Opposite KINFISHER POP\, Birmingham B44 9TY\, United Kingdom\, Birmingham\, Birmingham\, United Kingdom
ATTACH;FMTTYPE=image/jpeg:https://www.cachouseofencounter.org/wp-content/uploads/2025/08/Gates-of-my-Limitation-are-over.jpg
ORGANIZER;CN="CAC House Of Encounter":MAILTO:cachouseofencounter@gmail.com
END:VEVENT
END:VCALENDAR